{"text_format":"3","workbook":"xlsx","n_sheets":2,"sheets":["Неделя 1","Неделя 2"],"not_rendered":{"external_links":1,"defined_names":2},"read":"whole","date_system":"1900"}

{"sheet":"Неделя 1","index":0,"n_rows":160,"n_cols":10,"rows_kept":160,"merged":[[2,0,2,4],[3,0,3,4],[6,0,6,1]]}
[]
[]
["МЕНЮ-РАСКЛАДКА"]
["ГОРЯЧИЕ  БЛЮДА ГОТОВЯТСЯ В ПАРОКОНВЕКТОМАТАХ"]
["Группа","Название блюда","Продукты","Ед.Изм","Брутто всего","цена","Стоимость, руб."]
["1 неделя"]
["Понедельник 1 неделя"]
[null,"Плоды и ягоды свежие (яблоки) 120 г",{"$nulls":4},{"$f":"SUM(G9)","v":11.79}]
[null,null,"Яблоки","г",{"$f":"100+20","v":{"v":120,"d":"120.00"}},{"$f":"'[1]Перечень продуктов'!$B$88","v":98.29},{"$f":"ROUND(F9/1000*E9,2)","v":11.79}]
[null,"Салат из белокочанной капусты 60 г (капуста, морковь, сахар, м/раст.)",{"$nulls":4},{"$f":"ROUND(SUM(G11:G16),2)","v":2.14}]
[null,null,"Капуста свежая","г",59.18,{"$f":"'[1]Перечень продуктов'!$B$20","v":24.64},{"$f":"ROUND(F11/1000*E11,2)","v":1.46}]
[null,null,"Морковь свежая","г",7.98,{"$f":"'[1]Перечень продуктов'!$B$52","v":33.97},{"$f":"ROUND(F12/1000*E12,2)","v":0.27}]
[null,null,"Сахарный песок","г",{"v":3,"d":"3.00"},{"$f":"'[1]Перечень продуктов'!$B$65","v":32.01},{"$f":"ROUND(F13/1000*E13,20)","v":0.09603}]
[null,null,"Соль","г",{"v":0.3,"d":"0.30"},{"$f":"'[1]Перечень продуктов'!$B$70","v":11.1},{"$f":"ROUND(F14/1000*E14,20)","v":0.00333}]
[null,null,"Масло растительное  ","г",{"v":3,"d":"3.00"},{"$f":"'[1]Перечень продуктов'!$B$47","v":80.56},{"$f":"ROUND(F15/1000*E15,2)","v":0.24}]
[null,null,"Лимонная кислота","г",0.18,{"$f":"'[1]Перечень продуктов'!$B$25","v":376.72},{"$f":"ROUND(F16/1000*E16,20)","v":0.0678096}]
[null,"Котлеты \"пожарские\"  80 г",{"$nulls":4},{"$f":"ROUND(SUM(G18:G25),2)","v":18.99}]
[null,null,"Говядина лопаточный отруб","г",{"v":25,"d":"25.000"},{"$f":"'[1]Перечень продуктов'!$B$8","v":378.3},{"$f":"ROUND(F18/1000*E18,2)","v":9.46}]
[null,null,"Мясо говядина котлетное","г",{"v":25,"d":"25.000"},{"$f":"'[1]Перечень продуктов'!$B$9","v":304.5},7.61]
[null,null,"Лук репчатый очищенный","г",{"v":12,"d":"12.000"},{"$f":"'[1]Перечень продуктов'!$B$45","v":36.23},0.43]
[null,null,"Батон","г",{"v":14,"d":"14.000"},{"$f":"'[1]Перечень продуктов'!$B$3","v":74.59},1.04]
[null,null,"Вода","г",{"v":19,"d":"19.000"},{"$f":"'[1]Перечень продуктов'!$B$5","v":7.39},0.14]
[null,null,"Соль","г",{"v":1,"d":"1.000"},{"$f":"'[1]Перечень продуктов'!$B$70","v":11.1},{"$f":"ROUND(F23/1000*E23,20)","v":0.0111}]
[null,null,"Сухари панировочные","г",{"v":2,"d":"2.000"},{"$f":"'[1]Перечень продуктов'!$B$73","v":70.67},0.14]
[null,null,"Масло растительное  ","г",{"v":2,"d":"2.00"},{"$f":"'[1]Перечень продуктов'!$B$47","v":80.56},0.16]
[null,"Каша гречневая рассыпч. с маслом 150/5 г",{"$nulls":4},{"$f":"SUM(G27:G29)","v":{"v":9.9233,"d":"9.92"}}]
[null,null,"Крупа гречневая","г",69.26,{"$f":"'[1]Перечень продуктов'!$B$34","v":70.99},{"$f":"ROUND(F27/1000*E27,2)","v":4.92}]
[null,null,"Соль","г",{"v":3,"d":"3.00"},{"$f":"'[1]Перечень продуктов'!$B$70","v":11.1},{"$f":"ROUND(F28/1000*E28,20)","v":0.0333},"отличается от 1 недели"]
[null,null,"Масло сливочное","г",10.25,{"$f":"'[1]Перечень продуктов'!$B$48","v":485.14},{"$f":"ROUND(F29/1000*E29,2)","v":4.97},"отличается от 1 недели"]
[null,"Чай  с сахаром, лимоном 200/15/7 г",{"$nulls":4},{"$f":"SUM(G31:G33)","v":2.43}]
[null,null,"Чай ","г",{"v":1,"d":"1.00"},{"$f":"'[1]Перечень продуктов'!$B$84","v":658.37},0.66]
[null,null,"Сахарный песок","г",{"v":15,"d":"15.00"},{"$f":"'[1]Перечень продуктов'!$B$65","v":32.01},0.48]
[null,null,"Лимоны","г",{"v":8,"d":"8.00"},{"$f":"'[1]Перечень продуктов'!$B$42","v":161.27},1.29]
[null,"Хлеб белый 1 сорт 30 г",{"$nulls":4},{"$f":"SUM(G35)","v":1.64}]
[null,null,"Хлеб белый 1 сорт","г",{"v":30,"d":"30.00"},{"$f":"'[1]Перечень продуктов'!$B$81","v":54.8},1.64]
[null,"Хлеб сельский  20 г",{"$nulls":4},{"$f":"SUM(G37)","v":1.08}]
[null,null,"Хлеб сельский","г",{"v":20,"d":"20.00"},{"$f":"'[1]Перечень продуктов'!$B$83","v":54.16},1.08]
["Вторник 1 неделя"]
[null,"Плоды и ягоды свежие (яблоки) 100 г",{"$nulls":4},{"$f":"SUM(G40)","v":9.83}]
[null,null,"Яблоки","г",{"v":100,"d":"100.00"},{"$f":"'[1]Перечень продуктов'!$B$88","v":98.29},{"$f":"ROUND(F40/1000*E40,2)","v":9.83}]
[null,"Жаркое из птицы (грудки куриные) 50/150 г ",{"$nulls":4},{"$f":"ROUND(SUM(G42:G49),2)","v":25.49}]
[null,null,"Грудки куриные","г",{"v":95,"d":"95.00"},{"$f":"'[1]Перечень продуктов'!$B$31","v":199.26},18.93]
[null,null,"Картофель свежий ","г",{"v":178,"d":"178.00"},{"$f":"'[1]Перечень продуктов'!$B$22","v":28.73},5.11]
[null,null,"Лук репчатый","г",{"v":11.9,"d":"11.90"},{"$f":"'[1]Перечень продуктов'!$B$45","v":36.23},0.43]
[null,null,"Томатная паста","г",{"v":2,"d":"2.00"},{"$f":"'[1]Перечень продуктов'!$B$76","v":111.22},0.22]
[null,null,"Масло растительное  ","г",{"v":4,"d":"4.00"},{"$f":"'[1]Перечень продуктов'!$B$47","v":80.56},0.32]
[null,null,"Соль","г",{"v":2,"d":"2.00"},{"$f":"'[1]Перечень продуктов'!$B$70","v":11.1},{"$f":"ROUND(F47/1000*E47,20)","v":0.0222}]
[null,null,"Лавровый лист","г",0.01,{"$f":"'[1]Перечень продуктов'!$B$43","v":984.8},0.009848]
[null,null,"Морковь свежая","г",{"v":13.3,"d":"13.30"},{"$f":"'[1]Перечень продуктов'!$B$52","v":33.97},0.45]
[null,"Овощи натуральные свежие (огурцы) 80 г",{"$nulls":4},{"$f":"SUM(G51)","v":7.61}]
[null,null,"Огурцы свежие","г",{"v":81.6,"d":"81.60"},{"$f":"'[1]Перечень продуктов'!$B$55","v":93.27},7.61]
[null,"Какао с молоком 200 г",{"$nulls":4},{"$f":"SUM(G53:G55)","v":6.58}]
[null,null,"Какао порошок ","г",{"v":4,"d":"4.00"},{"$f":"'[1]Перечень продуктов'!$B$19","v":192},0.77]
[null,null,"Сахарный песок","г",{"v":20,"d":"20.00"},{"$f":"'[1]Перечень продуктов'!$B$65","v":32.01},0.64]
[null,null,"Молоко","г",{"v":100,"d":"100.00"},{"$f":"'[1]Перечень продуктов'!$B$51","v":51.71},5.17]
[null,"Хлеб белый 1 сорт 30 г",{"$nulls":4},{"$f":"SUM(G57:G57)","v":1.64}]
[null,null,"Хлеб белый 1 сорт","г",{"v":30,"d":"30.00"},{"$f":"'[1]Перечень продуктов'!$B$81","v":54.8},1.64]
[null,"Хлеб сельский  20 г",{"$nulls":4},{"$f":"SUM(G59)","v":1.08}]
[null,null,"Хлеб сельский","г",{"v":20,"d":"20.00"},{"$f":"'[1]Перечень продуктов'!$B$83","v":54.16},1.08]
["Среда 1 неделя"]
[null,"Плоды и ягоды свежие (яблоки) 120 г",{"$nulls":4},{"$f":"SUM(G62)","v":11.79}]
[null,null,"Яблоки","г",{"v":120,"d":"120.00"},{"$f":"'[1]Перечень продуктов'!$B$88","v":98.29},{"$f":"ROUND(F62/1000*E62,2)","v":11.79}]
[null,"Салат из моркови 80 г",{"$nulls":4},{"$f":"SUM(G64:G66)","v":3.83}]
[null,null,"Морковь свежая","г",86.18,{"$f":"'[1]Перечень продуктов'!$B$52","v":33.97},2.93]
[null,null,"Масло растительное  ","г",{"v":8,"d":"8.00"},{"$f":"'[1]Перечень продуктов'!$B$47","v":80.56},0.64]
[null,null,"Сахарный песок","г",{"v":8,"d":"8.00"},{"$f":"'[1]Перечень продуктов'!$B$65","v":32.01},0.26]
[null,"Гуляш из говядины 50/50 г",{"$nulls":4},{"$f":"ROUND(SUM(G68:G74),2)","v":31.91}]
[null,null,"Мясо говядина лопаточный отруб","г",{"v":81,"d":"81.00"},{"$f":"'[1]Перечень продуктов'!$B$8","v":378.3},30.64]
[null,null,"Масло растительное  ","г",{"v":5,"d":"5.00"},{"$f":"'[1]Перечень продуктов'!$B$47","v":80.56},{"v":0.4,"d":"0.40"}]
[null,null,"Лук репчатый","г",{"v":11.9,"d":"11.90"},{"$f":"'[1]Перечень продуктов'!$B$45","v":36.23},0.43]
[null,null,"Томатная паста","г",{"v":3.2,"d":"3.20"},{"$f":"'[1]Перечень продуктов'!$B$76","v":111.22},0.36]
[null,null,"Мука пшеничная","г",{"v":2,"d":"2.00"},{"$f":"'[1]Перечень продуктов'!$B$53","v":28.65},{"$f":"ROUND(F72/1000*E72,20)","v":0.0573}]
[null,null,"Соль","г",{"v":1,"d":"1.00"},{"$f":"'[1]Перечень продуктов'!$B$70","v":11.1},0.0111]
[null,null,"Лавровый лист","г",0.01,{"$f":"'[1]Перечень продуктов'!$B$43","v":984.8},0.009848]
[null,"Макаронные изделия отварные 150 г ",{"$nulls":4},{"$f":"ROUND(SUM(G76:G78),2)","v":4.64}]
[null,null,"Макаронные изделия твердых сортов","г",50.93,{"$f":"'[1]Перечень продуктов'!$B$46","v":40.73},2.07]
[null,null,"Соль","г",{"v":1.5,"d":"1.50"},{"$f":"'[1]Перечень продуктов'!$B$70","v":11.1},{"$f":"ROUND(F77/1000*E77,20)","v":0.01665}]
[null,null,"Масло сливочное","г",5.25,{"$f":"'[1]Перечень продуктов'!$B$48","v":485.14},2.55]
[null,"Чай  с сахаром, курагой 200/15/7 г",{"$nulls":4},{"$f":"SUM(G80:G82)","v":{"v":2.1900000000000004,"d":"2.19"}}]
[null,null,"Чай ","г",{"v":1,"d":"1.00"},{"$f":"'[1]Перечень продуктов'!$B$84","v":658.37},0.66]
[null,null,"Сахарный песок","г",{"v":15,"d":"15.00"},{"$f":"'[1]Перечень продуктов'!$B$65","v":32.01},0.48]
[null,null,"Курага","г",{"v":7,"d":"7.00"},{"$f":"'[1]Перечень продуктов'!$B$29","v":150},1.05]
[null,"Хлеб белый 1 сорт 30 г",{"$nulls":4},{"$f":"SUM(G84)","v":1.64}]
[null,null,"Хлеб белый 1 сорт","г",{"v":30,"d":"30.00"},{"$f":"'[1]Перечень продуктов'!$B$81","v":54.8},1.64]
[null,"Хлеб сельский  20 г",{"$nulls":4},{"$f":"SUM(G86)","v":1.08}]
[null,null,"Хлеб сельский","г",{"v":20,"d":"20.00"},{"$f":"'[1]Перечень продуктов'!$B$83","v":54.16},1.08]
["Четверг 1 неделя"]
[null,"Плоды и ягоды свежие (яблоки) 120 г",{"$nulls":4},{"$f":"SUM(G89)","v":11.79}]
[null,null,"Яблоки","г",{"v":120,"d":"120.00"},{"$f":"'[1]Перечень продуктов'!$B$88","v":98.29},{"$f":"ROUND(F89/1000*E89,2)","v":11.79}]
[null,"Салат из свежих огурцов 60 г",{"$nulls":4},{"$f":"SUM(G91:G92)","v":5.71}]
[null,null,"Огурцы свежие","г",58.14,{"$f":"'[1]Перечень продуктов'!$B$55","v":93.27},5.42]
[null,null,"Масло растительное  ","г",{"v":3.6,"d":"3.60"},{"$f":"'[1]Перечень продуктов'!$B$47","v":80.56},0.29]
[null,"Биточки рыбные из  минтая 80 г ",{"$nulls":4},{"$f":"ROUND(SUM(G94:G102),2)","v":15.79}]
[null,null,"Рыба минтай","г",79,{"$f":"'[1]Перечень продуктов'!$B$50","v":163.19},12.89]
[null,null,"или фарш из минтая","г",60]
[null,null,"Яйцо 1 кат.","шт",0.2,null,{"$f":"ROUND(F96/1000*E96,20)","v":0}]
[null,null,"Сухари панировочные","г",7,{"$f":"'[1]Перечень продуктов'!$B$73","v":70.67},0.49]
[null,null,"Вода","г",8,{"$f":"'[1]Перечень продуктов'!$B$5","v":7.39},{"$f":"ROUND(F98/1000*E98,20)","v":0.05912}]
[null,null,"Молоко сухое","г",5,{"$f":"'[1]Перечень продуктов'!$B$51","v":51.71},{"$f":"ROUND(F99/1000*E99*$I$99,2)","v":2.07},"Цена молока",{"$f":"200/25","v":8},"Из 25 гр.сухого=200мл. молока"]
[null,null,"Лук репчатый очищенный","г",3,{"$f":"'[1]Перечень продуктов'!$B$45","v":36.23},{"$f":"ROUND(F100/1000*E100,2)","v":0.11}]
[null,null,"Соль","г",1,{"$f":"'[1]Перечень продуктов'!$B$70","v":11.1},{"$f":"ROUND(F101/1000*E101,20)","v":0.0111}]
[null,null,"Масло растительное  ","г",{"v":2,"d":"2.00"},{"$f":"'[1]Перечень продуктов'!$B$47","v":80.56},0.16]
[null,"Пюре  картофельное  с маслом 150/5 г",{"$nulls":4},{"$f":"ROUND(SUM(G104:G108),2)","v":11.69}]
[null,null,"Картофель свежий","г",{"v":190,"d":"190.00"},{"$f":"'[1]Перечень продуктов'!$B$22","v":28.73},5.46]
[null,null,"Соль","г",{"v":1.5,"d":"1.50"},{"$f":"'[1]Перечень продуктов'!$B$70","v":11.1},{"$f":"ROUND(F105/1000*E105,20)","v":0.01665}]
[null,null,"Молоко","г",{"v":23.7,"d":"23.70"},{"$f":"'[1]Перечень продуктов'!$B$51","v":51.71},1.23]
[null,null,"Масло сливочное","г",5.25,{"$f":"'[1]Перечень продуктов'!$B$48","v":485.14},2.55]
[null,null,"Масло сливочное","г",{"v":5,"d":"5.00"},{"$f":"'[1]Перечень продуктов'!$B$48","v":485.14},2.43]
[null,"Кофейный напиток с молоком 200 г",{"$nulls":4},{"$f":"SUM(G110:G112)","v":{"v":7.6899999999999995,"d":"7.69"}}]
[null,null,"Кофейный напиток  ","г",{"v":5,"d":"5.00"},{"$f":"'[1]Перечень продуктов'!$B$27","v":375.42},1.88]
[null,null,"Сахарный песок","г",{"v":20,"d":"20.00"},{"$f":"'[1]Перечень продуктов'!$B$65","v":32.01},0.64]
[null,null,"Молоко","г",{"v":100,"d":"100.00"},{"$f":"'[1]Перечень продуктов'!$B$51","v":51.71},5.17]
[null,"Хлеб белый 1 сорт 30 г",{"$nulls":4},{"$f":"SUM(G114)","v":1.64}]
[null,null,"Хлеб белый 1 сорт","г",{"v":30,"d":"30.00"},{"$f":"'[1]Перечень продуктов'!$B$81","v":54.8},1.64]
[null,"Хлеб сельский  20 г",{"$nulls":4},{"$f":"SUM(G116)","v":1.08}]
[null,null,"Хлеб сельский","г",{"v":20,"d":"20.00"},{"$f":"'[1]Перечень продуктов'!$B$83","v":54.16},1.08]
["Пятница 1 неделя"]
[null,"Плов с говядиной 50/150 (рис пропареный)",{"$nulls":4},{"$f":"ROUND(SUM(G119:G125),2)","v":35.87}]
[null,null,"Мясо говядина лопаточный отруб","г",{"v":81,"d":"81.00"},{"$f":"'[1]Перечень продуктов'!$B$8","v":378.3},30.64]
[null,null,"Рис пропаренный","г",{"v":51,"d":"51.00"},{"$f":"'[1]Перечень продуктов'!$B$35","v":63.38},3.23,"Нет в Эл.Магазине"]
[null,null,"Масло растительное  ","г",{"v":7.5,"d":"7.50"},{"$f":"'[1]Перечень продуктов'!$B$47","v":80.56},{"v":0.6,"d":"0.60"}]
[null,null,"Лук репчатый","г",8.93,{"$f":"'[1]Перечень продуктов'!$B$45","v":36.23},0.32]
[null,null,"Морковь свежая","г",15.96,{"$f":"'[1]Перечень продуктов'!$B$52","v":33.97},0.54]
[null,null,"Томатная паста","г",{"v":4.8,"d":"4.80"},{"$f":"'[1]Перечень продуктов'!$B$76","v":111.22},0.53]
[null,null,"Соль","г",{"v":1.2,"d":"1.20"},{"$f":"'[1]Перечень продуктов'!$B$70","v":11.1},{"$f":"ROUND(F125/1000*E125,20)","v":0.01332}]
[null,"Овощи натуральные свежие (помидоры) 60 г",{"$nulls":4},{"$f":"SUM(G127)","v":8.16}]
[null,null,"Помидоры свежие","г",{"v":61.2,"d":"61.20"},{"$f":"'[1]Перечень продуктов'!$B$62","v":133.4},8.16]
[null,"Чай  с сахаром, лимоном 200/15/7 г",{"$nulls":4},{"$f":"SUM(G129:G131)","v":2.43}]
[null,null,"Чай ","г",{"v":1,"d":"1.00"},{"$f":"'[1]Перечень продуктов'!$B$84","v":658.37},0.66]
[null,null,"Сахарный песок","г",{"v":15,"d":"15.00"},{"$f":"'[1]Перечень продуктов'!$B$65","v":32.01},0.48]
[null,null,"Лимоны","г",{"v":8,"d":"8.00"},{"$f":"'[1]Перечень продуктов'!$B$42","v":161.27},1.29]
[null,"Хлеб белый 1 сорт 30 г",{"$nulls":4},{"$f":"SUM(G133)","v":1.64}]
[null,null,"Хлеб белый 1 сорт","г",{"v":30,"d":"30.00"},{"$f":"'[1]Перечень продуктов'!$B$81","v":54.8},1.64]
[null,"Хлеб сельский  20 г",{"$nulls":4},{"$f":"SUM(G135)","v":1.08}]
[null,null,"Хлеб сельский","г",{"v":20,"d":"20.00"},{"$f":"'[1]Перечень продуктов'!$B$83","v":54.16},1.08]
["Суббота 1 неделя"]
[null,"Плоды и ягоды свежие (яблоки) 100 г",{"$nulls":4},{"$f":"SUM(G138)","v":9.83}]
[null,null,"Яблоки","г",{"v":100,"d":"100.00"},{"$f":"'[1]Перечень продуктов'!$B$88","v":98.29},9.83]
[null,"Салат из свежих помидоров (без лука) 60 г",{"$nulls":4},{"$f":"SUM(G140:G141)","v":{"v":8.049999999999999,"d":"8.05"}}]
[null,null,"Помидоры свежие","г",58.14,{"$f":"'[1]Перечень продуктов'!$B$62","v":133.4},7.76]
[null,null,"Масло растительное  ","г",{"v":3.6,"d":"3.60"},{"$f":"'[1]Перечень продуктов'!$B$47","v":80.56},0.29]
[null,"Пельмени \"для умников и умниц\" отварные с маслом 150/5 г (говядина и мясо птицы) )",{"$nulls":4},{"$f":"ROUND(SUM(G143:G152),2)","v":24.48}]
[null,null,"Мука пшеничная","г",41,{"$f":"'[1]Перечень продуктов'!$B$53","v":28.65},1.17]
[null,null,"Яйцо 1 кат.","шт",0.07,{"$f":"'[1]Перечень продуктов'!$B$89","v":5.55},{"$f":"ROUND(F144/1000*E144,20)","v":0.0003885}]
[null,null,"Вода","г",13.3,{"$f":"'[1]Перечень продуктов'!$B$5","v":7.39},{"v":0.1,"d":"0.10"}]
[null,null,"Соль","г",2,{"$f":"'[1]Перечень продуктов'!$B$70","v":11.1},{"$f":"ROUND(F146/1000*E146,20)","v":0.0222}]
[null,null,"Мясо говядина котлетное","г",25,{"$f":"'[1]Перечень продуктов'!$B$8","v":378.3},9.46]
[null,null,"Грудки куриные","г",54.2,{"$f":"'[1]Перечень продуктов'!$B$31","v":199.26},{"v":10.8,"d":"10.80"}]
[null,null,"Лук репчатый очищенный","г",12,{"$f":"'[1]Перечень продуктов'!$B$45","v":36.23},0.43]
[null,null,"Масло растительное","г",0.4,{"$f":"'[1]Перечень продуктов'!$B$47","v":80.56},{"$f":"ROUND(F150/1000*E150,20)","v":0.032224}]
[null,null,"Соль","г",{"v":2.8,"d":"2.80"},{"$f":"'[1]Перечень продуктов'!$B$70","v":11.1},0.03108]
[null,null,"Масло сливочное","г",{"v":5,"d":"5.00"},{"$f":"'[1]Перечень продуктов'!$B$48","v":485.14},2.43]
[null,"Какао с молоком 200 г",{"$nulls":4},{"$f":"SUM(G154:G156)","v":6.58}]
[null,null,"Какао порошок ","г",{"v":4,"d":"4.00"},{"$f":"'[1]Перечень продуктов'!$B$19","v":192},0.77]
[null,null,"Сахарный песок","г",{"v":20,"d":"20.00"},{"$f":"'[1]Перечень продуктов'!$B$65","v":32.01},0.64]
[null,null,"Молоко","г",{"v":100,"d":"100.00"},{"$f":"'[1]Перечень продуктов'!$B$51","v":51.71},5.17]
[null,"Хлеб белый 1 сорт 30 г",{"$nulls":4},{"$f":"SUM(G158)","v":1.64}]
[null,null,"Хлеб белый 1 сорт","г",{"v":30,"d":"30.00"},{"$f":"'[1]Перечень продуктов'!$B$81","v":54.8},1.64]
[null,"Хлеб сельский  20 г",{"$nulls":4},{"$f":"SUM(G160)","v":1.08}]
[null,null,"Хлеб сельский","г",{"v":20,"d":"20.00"},{"$f":"'[1]Перечень продуктов'!$B$83","v":54.16},1.08]

{"sheet":"Неделя 2","index":1,"n_rows":171,"n_cols":8,"rows_kept":171,"merged":[[0,0,0,4],[1,0,1,4],[3,0,3,1],[4,0,4,1],[32,0,32,1],[70,0,70,1],[73,1,73,2],[101,0,101,1],[110,1,110,2],[128,0,128,1],[153,0,153,1]]}
["МЕНЮ-РАСКЛАДКА"]
["ГОРЯЧИЕ  БЛЮДА ГОТОВЯТСЯ В ПАРОКОНВЕКТОМАТАХ"]
["Группа","Название блюда","Продукты","Ед.Изм","Брутто всего","цена","Стоимость, руб."]
["2 неделя"]
["Понедельник 2 неделя"]
[null,"Плоды и ягоды свежие (яблоки) 120 г",{"$nulls":4},{"$f":"SUM(G7)","v":11.79}]
[null,null,"Яблоки","г",{"$f":"100+20","v":{"v":120,"d":"120.00"}},{"$f":"'[1]Перечень продуктов'!$B$88","v":98.29},{"$f":"ROUND(F7/1000*E7,2)","v":11.79}]
[null,"Овощи натуральные свежие (помидоры) 80 г",{"$nulls":4},{"$f":"SUM(G9)","v":10.89}]
[null,null,"Помидоры свежие","г",{"v":81.6,"d":"81.600"},{"$f":"'[1]Перечень продуктов'!$B$62","v":133.4},{"$f":"ROUND(F9/1000*E9,2)","v":10.89}]
[null,"Котлеты  \"аппетитные\" мясо - куриные 80 г ",{"$nulls":4},{"$f":"ROUND(SUM(G11:G19),2)","v":24.59}]
[null,null,"Мясо говядина лопаточный отруб","г",{"v":49.5,"d":"49.500"},{"$f":"'[1]Перечень продуктов'!$B$8","v":378.3},{"$f":"ROUND(F11/1000*E11,2)","v":18.73}]
[null,null,"Лук репчатый","г",{"v":18.62,"d":"18.620"},{"$f":"'[1]Перечень продуктов'!$B$45","v":36.23},0.67]
[null,null,"Грудки куриные","г",{"v":16,"d":"16.000"},{"$f":"'[1]Перечень продуктов'!$B$31","v":199.26},3.19]
[null,null,"Батон","г",{"v":7,"d":"7.000"},{"$f":"'[1]Перечень продуктов'!$B$3","v":74.59},0.52]
[null,null,"Вода","г",{"v":8,"d":"8.000"},{"$f":"'[1]Перечень продуктов'!$B$5","v":7.39},{"$f":"ROUND(F15/1000*E15,20)","v":0.05912}]
[null,null,"Масло сливочное","г",{"v":2,"d":"2.000"},{"$f":"'[1]Перечень продуктов'!$B$48","v":485.14},0.97]
[null,null,"Сухари панировочные","г",{"v":4,"d":"4.000"},{"$f":"'[1]Перечень продуктов'!$B$73","v":70.67},0.28]
[null,null,"Соль","г",{"v":1,"d":"1.000"},{"$f":"'[1]Перечень продуктов'!$B$70","v":11.1},{"$f":"ROUND(F18/1000*E18,20)","v":0.0111}]
[null,null,"Масло растительное  ","г",{"v":2,"d":"2.000"},{"$f":"'[1]Перечень продуктов'!$B$47","v":80.56},0.16]
[null,"Макароны  твердых сортов отварные с маслом 150/5 г ",{"$nulls":4},{"$f":"ROUND(SUM(G21:G24),2)","v":7.07}]
[null,null,"Макаронные изделия твердых сортов","г",{"v":50.93,"d":"50.930"},{"$f":"'[1]Перечень продуктов'!$B$46","v":40.73},{"$f":"ROUND(F21/1000*E21,2)","v":2.07}]
[null,null,"Соль","г",{"v":1.5,"d":"1.500"},{"$f":"'[1]Перечень продуктов'!$B$70","v":11.1},{"$f":"ROUND(F22/1000*E22,20)","v":0.01665}]
[null,null,"Масло сливочное","г",{"v":5.25,"d":"5.250"},{"$f":"'[1]Перечень продуктов'!$B$48","v":485.14},2.55]
[null,null,"Масло сливочное","г",{"v":5,"d":"5.000"},{"$f":"'[1]Перечень продуктов'!$B$48","v":485.14},2.43]
[null,"Кофейный напиток с молоком 200 г",{"$nulls":4},{"$f":"SUM(G26:G28)","v":7.6899999999999995}]
[null,null,"Кофейный напиток  ","г",{"v":5,"d":"5.000"},{"$f":"'[1]Перечень продуктов'!$B$27","v":375.42},{"$f":"ROUND(F26/1000*E26,2)","v":1.88}]
[null,null,"Сахарный песок","г",{"v":20,"d":"20.000"},{"$f":"'[1]Перечень продуктов'!$B$65","v":32.01},0.64]
[null,null,"Молоко","г",{"v":100,"d":"100.000"},{"$f":"'[1]Перечень продуктов'!$B$51","v":51.71},5.17]
[null,"Хлеб сельский  20 г",{"$nulls":4},{"$f":"SUM(G30)","v":1.08}]
[null,null,"Хлеб сельский","г",{"v":20,"d":"20.000"},{"$f":"'[1]Перечень продуктов'!$B$83","v":54.16},{"$f":"ROUND(F30/1000*E30,2)","v":1.08}]
[null,"Хлеб белый 1 сорт 30 г",{"$nulls":4},{"$f":"SUM(G32)","v":1.64}]
[null,null,"Хлеб белый 1 сорт","г",{"v":30,"d":"30.000"},{"$f":"'[1]Перечень продуктов'!$B$81","v":54.8},{"$f":"ROUND(F32/1000*E32,2)","v":1.64}]
["Вторник 2 неделя"]
[null,"Плоды и ягоды свежие (яблоки) 120 г",{"$nulls":4},{"$f":"SUM(G35)","v":11.79}]
[null,null,"Яблоки","г",{"v":120,"d":"120.00"},{"$f":"'[1]Перечень продуктов'!$B$88","v":98.29},{"$f":"ROUND(F35/1000*E35,2)","v":11.79}]
[null,"Салат из свежих огурцов  80 г",{"$nulls":4},{"$f":"SUM(G37:G38)","v":7.62}]
[null,null,"Огурцы свежие","г",{"v":77.52,"d":"77.520"},{"$f":"'[1]Перечень продуктов'!$B$55","v":93.27},{"$f":"ROUND(F37/1000*E37,2)","v":7.23}]
[null,null,"Масло растительное  ","г",{"v":4.8,"d":"4.800"},{"$f":"'[1]Перечень продуктов'!$B$47","v":80.56},0.39]
[null,"Ёжики мясные с рисом в соусе томатном 60 /40 г ",{"$nulls":4},{"$f":"ROUND(SUM(G40:G57),2)","v":17.65}]
[null,null,"Мясо говядина котлетное","г",{"v":39.6,"d":"39.600"},{"$f":"'[1]Перечень продуктов'!$B$9","v":304.5},{"$f":"ROUND(F40/1000*E40,2)","v":12.06}]
[null,null,"Мясо говядина лопаточный отруб","г",{"v":9.9,"d":"9.900"},{"$f":"'[1]Перечень продуктов'!$B$8","v":378.3},3.75]
[null,null,"Крупа рисовая","г",{"v":7,"d":"7.000"},{"$f":"'[1]Перечень продуктов'!$B$35","v":63.38},0.44]
[null,null,"Вода","г",{"v":12,"d":"12.000"},{"$f":"'[1]Перечень продуктов'!$B$5","v":7.39},{"$f":"ROUND(F43/1000*E43,20)","v":0.08868}]
[null,null,"Соль","г",{"v":1,"d":"1.000"},{"$f":"'[1]Перечень продуктов'!$B$70","v":11.1},0.0111]
[null,null,"Лук репчатый ","г",{"v":6.65,"d":"6.650"},{"$f":"'[1]Перечень продуктов'!$B$45","v":36.23},0.24]
[null,null,"Хлеб белый 1 сорт","г",{"v":1,"d":"1.000"},{"$f":"'[1]Перечень продуктов'!$B$81","v":54.8},{"$f":"ROUND(F46/1000*E46,20)","v":0.0548}]
[null,null,"Масло растительное  ","г",{"v":2,"d":"2.000"},{"$f":"'[1]Перечень продуктов'!$B$47","v":80.56},0.16]
[null,null,"Томатная паста","г",{"v":4,"d":"4.000"},{"$f":"'[1]Перечень продуктов'!$B$76","v":111.22},0.44]
[null,null,"Морковь свежая ","г",{"v":3.24,"d":"3.240"},{"$f":"'[1]Перечень продуктов'!$B$52","v":33.97},0.11]
[null,null,"Лук репчатый ","г",1.065,{"$f":"'[1]Перечень продуктов'!$B$45","v":36.23},{"$f":"ROUND(F50/1000*E50,20)","v":0.03858495}]
[null,null,"Масло растительное","г",{"v":2.04,"d":"2.040"},{"$f":"'[1]Перечень продуктов'!$B$47","v":80.56},0.16]
[null,null,"Мука пшеничная","г",{"v":2,"d":"2.000"},{"$f":"'[1]Перечень продуктов'!$B$53","v":28.65},{"$f":"ROUND(F52/1000*E52,20)","v":0.0573}]
[null,null,"Соль","г",{"v":0.4,"d":"0.400"},{"$f":"'[1]Перечень продуктов'!$B$70","v":11.1},0.00444]
[null,null,"Сахарный песок","г",{"v":0.48,"d":"0.480"},{"$f":"'[1]Перечень продуктов'!$B$65","v":32.01},0.0153648]
[null,null,"Чеснок молотый","г",{"v":0.04,"d":"0.040"},{"$f":"'[1]Перечень продуктов'!$B$87","v":245.98},0.0098392,"нет в Эл.магазине"]
[null,null,"Лавровый лист","г",0.004,{"$f":"'[1]Перечень продуктов'!$B$43","v":984.8},0.0039392]
[null,null,"Укроп","г",0.004,{"$f":"'[1]Перечень продуктов'!$B$79","v":400.79},1.60316E-3,"не предусмотрено в ПКМ715 для школьников"]
[null,"Пюре  картофельное  150 г ",{"$nulls":4},{"$f":"ROUND(SUM(G59:G62),2)","v":9.25}]
[null,null,"Соль","г",{"v":1.5,"d":"1.500"},{"$f":"'[1]Перечень продуктов'!$B$70","v":11.1},{"$f":"ROUND(F59/1000*E59,20)","v":0.01665}]
[null,null,"Молоко","г",{"v":23.7,"d":"23.700"},{"$f":"'[1]Перечень продуктов'!$B$51","v":51.71},{"$f":"ROUND(F60/1000*E60,2)","v":1.23}]
[null,null,"Масло сливочное","г",{"v":5.25,"d":"5.250"},{"$f":"'[1]Перечень продуктов'!$B$48","v":485.14},2.55]
[null,null,"Картофель свежий ","г",{"v":189.81,"d":"189.810"},{"$f":"'[1]Перечень продуктов'!$B$22","v":28.73},5.45]
[null,"Какао с молоком 200 г",{"$nulls":4},{"$f":"SUM(G64:G66)","v":6.58}]
[null,null,"Какао порошок ","г",{"v":4,"d":"4.000"},{"$f":"'[1]Перечень продуктов'!$B$19","v":192},{"$f":"ROUND(F64/1000*E64,2)","v":0.77}]
[null,null,"Сахарный песок","г",{"v":20,"d":"20.000"},{"$f":"'[1]Перечень продуктов'!$B$65","v":32.01},0.64]
[null,null,"Молоко","г",{"v":100,"d":"100.000"},{"$f":"'[1]Перечень продуктов'!$B$51","v":51.71},5.17]
[null,"Хлеб сельский  20 г",{"$nulls":4},{"$f":"SUM(G68)","v":1.08}]
[null,null,"Хлеб сельский","г",{"v":20,"d":"20.000"},{"$f":"'[1]Перечень продуктов'!$B$83","v":54.16},{"$f":"ROUND(F68/1000*E68,2)","v":1.08}]
[null,"Хлеб белый 1 сорт 30 г",{"$nulls":4},{"$f":"SUM(G70)","v":1.64}]
[null,null,"Хлеб белый 1 сорт","г",{"v":30,"d":"30.000"},{"$f":"'[1]Перечень продуктов'!$B$81","v":54.8},{"$f":"ROUND(F70/1000*E70,2)","v":1.64}]
["Среда 2 неделя"]
[null,"Плоды и ягоды свежие (яблоки) 120 г",{"$nulls":4},{"$f":"SUM(G73)","v":11.79}]
[null,null,"Яблоки","г",{"v":120,"d":"120.000"},{"$f":"'[1]Перечень продуктов'!$B$88","v":98.29},{"$f":"ROUND(F73/1000*E73,2)","v":11.79}]
[null,"Салат из белокочанной капусты 60 г (капуста, морковь, сахар, м/раст.)",{"$nulls":4},{"$f":"ROUND(SUM(G75:G80),2)","v":2.14}]
[null,null,"Капуста свежая","г",{"v":59.18,"d":"59.180"},{"$f":"'[1]Перечень продуктов'!$B$20","v":24.64},{"$f":"ROUND(F75/1000*E75,2)","v":1.46}]
[null,null,"Морковь свежая","г",{"v":7.98,"d":"7.980"},{"$f":"'[1]Перечень продуктов'!$B$52","v":33.97},0.27]
[null,null,"Сахарный песок","г",{"v":3,"d":"3.000"},{"$f":"'[1]Перечень продуктов'!$B$65","v":32.01},{"$f":"ROUND(F77/1000*E77,20)","v":0.09603}]
[null,null,"Соль","г",{"v":0.3,"d":"0.300"},{"$f":"'[1]Перечень продуктов'!$B$70","v":11.1},0.00333]
[null,null,"Масло растительное  ","г",{"v":3,"d":"3.000"},{"$f":"'[1]Перечень продуктов'!$B$47","v":80.56},0.24]
[null,null,"Лимонная кислота","г",{"v":0.18,"d":"0.180"},{"$f":"'[1]Перечень продуктов'!$B$25","v":376.72},{"$f":"ROUND(F80/1000*E80,20)","v":0.0678096}]
[null,"Гуляш  из куриных грудок  50/50 г",{"$nulls":4},{"$f":"ROUND(SUM(G82:G90),2)","v":20.27}]
[null,null,"Грудки куриные","г",{"v":94.67,"d":"94.670"},{"$f":"'[1]Перечень продуктов'!$B$31","v":199.26},{"$f":"ROUND(F82/1000*E82,2)","v":18.86}]
[null,null,"Масло растительное  ","г",{"v":4,"d":"4.000"},{"$f":"'[1]Перечень продуктов'!$B$47","v":80.56},0.32]
[null,null,"Томатная паста","г",{"v":5,"d":"5.000"},{"$f":"'[1]Перечень продуктов'!$B$76","v":111.22},0.56]
[null,null,"Масло растительное  ","г",{"v":2.55,"d":"2.550"},{"$f":"'[1]Перечень продуктов'!$B$47","v":80.56},0.21]
[null,null,"Морковь свежая","г",{"v":5.32,"d":"5.320"},{"$f":"'[1]Перечень продуктов'!$B$52","v":33.97},0.18]
[null,null,"Мука пшеничная","г",{"v":2.25,"d":"2.250"},{"$f":"'[1]Перечень продуктов'!$B$53","v":28.65},{"$f":"ROUND(F87/1000*E87,20)","v":0.0644625}]
[null,null,"Сахарный песок","г",{"v":0.5,"d":"0.500"},{"$f":"'[1]Перечень продуктов'!$B$65","v":32.01},0.016005]
[null,null,"Соль","г",{"v":1.2,"d":"1.200"},{"$f":"'[1]Перечень продуктов'!$B$70","v":11.1},0.01332]
[null,null,"Лук репчатый","г",{"v":1.19,"d":"1.190"},{"$f":"'[1]Перечень продуктов'!$B$45","v":36.23},0.0431137]
[null,"Каша гречневая рассыпчатая   150 г",{"$nulls":4},{"$f":"ROUND(SUM(G92:G94),2)","v":7.49}]
[null,null,"Крупа гречневая","г",{"v":69.26,"d":"69.260"},{"$f":"'[1]Перечень продуктов'!$B$34","v":70.99},{"$f":"ROUND(F92/1000*E92,2)","v":4.92}]
[null,null,"Масло сливочное","г",{"v":5.25,"d":"5.250"},{"$f":"'[1]Перечень продуктов'!$B$48","v":485.14},2.55]
[null,null,"Соль","г",{"v":1.5,"d":"1.500"},{"$f":"'[1]Перечень продуктов'!$B$70","v":11.1},{"$f":"ROUND(F94/1000*E94,20)","v":0.01665}]
[null,"Чай  с сахаром 200/15 г",{"$nulls":4},{"$f":"SUM(G96:G97)","v":1.1400000000000001}]
[null,null,"Чай","г",{"v":1,"d":"1.000"},{"$f":"'[1]Перечень продуктов'!$B$84","v":658.37},{"$f":"ROUND(F96/1000*E96,2)","v":0.66}]
[null,null,"Сахарный песок","г",{"v":15,"d":"15.000"},{"$f":"'[1]Перечень продуктов'!$B$65","v":32.01},0.48]
[null,"Хлеб сельский  20 г",{"$nulls":4},{"$f":"SUM(G99)","v":1.08}]
[null,null,"Хлеб сельский","г",{"v":20,"d":"20.000"},{"$f":"'[1]Перечень продуктов'!$B$83","v":54.16},{"$f":"ROUND(F99/1000*E99,2)","v":1.08}]
[null,"Хлеб белый 1 сорт 30 г",{"$nulls":4},{"$f":"SUM(G101)","v":1.64}]
[null,null,"Хлеб белый 1 сорт","г",{"v":30,"d":"30.000"},{"$f":"'[1]Перечень продуктов'!$B$81","v":54.8},{"$f":"ROUND(F101/1000*E101,2)","v":1.64}]
["Четверг 2 неделя"]
[null,"Хлеб белый 1 сорт 30 г",{"$nulls":4},{"$f":"SUM(G104)","v":1.64}]
[null,null,"Хлеб белый 1 сорт","г",{"v":30,"d":"30.000"},{"$f":"'[1]Перечень продуктов'!$B$81","v":54.8},{"$f":"ROUND(F104/1000*E104,2)","v":1.64}]
[null,"Хлеб сельский  20 г",{"$nulls":4},{"$f":"SUM(G106)","v":1.08}]
[null,null,"Хлеб сельский","г",{"v":20,"d":"20.000"},{"$f":"'[1]Перечень продуктов'!$B$83","v":54.16},{"$f":"ROUND(F106/1000*E106,2)","v":1.08}]
[null,"Салат из моркови 80 г",{"$nulls":4},{"$f":"SUM(G108:G110)","v":3.83}]
[null,null,"Морковь свежая","г",{"v":86.18,"d":"86.180"},{"$f":"'[1]Перечень продуктов'!$B$52","v":33.97},{"$f":"ROUND(F108/1000*E108,2)","v":2.93}]
[null,null,"Масло растительное  ","г",{"v":8,"d":"8.000"},{"$f":"'[1]Перечень продуктов'!$B$47","v":80.56},0.64]
[null,null,"Сахарный песок","г",{"v":8,"d":"8.000"},{"$f":"'[1]Перечень продуктов'!$B$65","v":32.01},0.26]
[null,"Грудка куриная (маринованное филе) в сливочном соусе  60/30 г)",{"$nulls":4},{"$f":"ROUND(SUM(G112:G120),2)","v":31.35}]
[null,null,"Грудки куриные","г",{"v":114.25,"d":"114.250"},{"$f":"'[1]Перечень продуктов'!$B$31","v":199.26},{"$f":"ROUND(F112/1000*E112,2)","v":22.77}]
[null,null,"Соус переменка","г",{"v":13,"d":"13.000"},{"$f":"'[1]Перечень продуктов'!$B$109","v":129.70000000000002},1.69]
[null,null,"Масло растительное","г",{"v":4.3,"d":"4.300"},{"$f":"'[1]Перечень продуктов'!$B$47","v":80.56},0.35]
[null,null,"Соль","г",{"v":0.86,"d":"0.860"},{"$f":"'[1]Перечень продуктов'!$B$70","v":11.1},{"$f":"ROUND(F115/1000*E115,20)","v":0.009546}]
[null,null,"Лук репчатый","г",{"v":11.9,"d":"11.900"},{"$f":"'[1]Перечень продуктов'!$B$45","v":36.23},0.43]
[null,null,"Сметана  ","г",{"v":10,"d":"10.000"},{"$f":"'[1]Перечень продуктов'!$B$72","v":164.84},1.65]
[null,null,"Масло сливочное","г",{"v":8,"d":"8.000"},{"$f":"'[1]Перечень продуктов'!$B$48","v":485.14},3.88]
[null,null,"Масло растительное  ","г",{"v":5,"d":"5.000"},{"$f":"'[1]Перечень продуктов'!$B$47","v":80.56},0.4]
[null,null,"Чеснок молотый","г",{"v":0.68,"d":"0.680"},{"$f":"'[1]Перечень продуктов'!$B$87","v":245.98},0.17,"нет в Эл.магазине"]
[null,"Рис  отварной  150 г",{"$nulls":4},{"$f":"ROUND(SUM(G122:G124),2)","v":6.71}]
[null,null,"Крупа рисовая","г",{"v":54,"d":"54.000"},{"$f":"'[1]Перечень продуктов'!$B$35","v":63.38},{"$f":"ROUND(F122/1000*E122,2)","v":3.42}]
[null,null,"Соль","г",{"v":1.5,"d":"1.500"},{"$f":"'[1]Перечень продуктов'!$B$70","v":11.1},{"$f":"ROUND(F123/1000*E123,20)","v":0.01665}]
[null,null,"Масло сливочное","г",{"v":6.75,"d":"6.750"},{"$f":"'[1]Перечень продуктов'!$B$48","v":485.14},3.27]
[null,"Чай с сахаром, курагой 200/15/7 г",{"$nulls":4},{"$f":"SUM(G126:G128)","v":2.1900000000000004}]
[null,null,"Чай ","г",{"v":1,"d":"1.000"},{"$f":"'[1]Перечень продуктов'!$B$84","v":658.37},{"$f":"ROUND(F126/1000*E126,2)","v":0.66}]
[null,null,"Сахарный песок","г",{"v":15,"d":"15.000"},{"$f":"'[1]Перечень продуктов'!$B$65","v":32.01},0.48]
[null,null,"Курага","г",{"v":7,"d":"7.000"},{"$f":"'[1]Перечень продуктов'!$B$29","v":150},1.05]
["Пятница 2 неделя"]
[null,"Чай  с сахаром, лимоном 200/15/7 г",{"$nulls":4},{"$f":"SUM(G131:G133)","v":2.43}]
[null,null,"Чай ","г",{"v":1,"d":"1.000"},{"$f":"'[1]Перечень продуктов'!$B$84","v":658.37},{"$f":"ROUND(F131/1000*E131,2)","v":0.66}]
[null,null,"Сахарный песок","г",{"v":15,"d":"15.000"},{"$f":"'[1]Перечень продуктов'!$B$65","v":32.01},0.48]
[null,null,"Лимоны","г",{"v":8,"d":"8.000"},{"$f":"'[1]Перечень продуктов'!$B$42","v":161.27},1.29]
[null,"Салат из свеклы отварной (с маслом)  80 г",{"$nulls":4},{"$f":"SUM(G135:G136)","v":4.07}]
[null,null,"Свекла свежая","г",{"v":103.36,"d":"103.360"},{"$f":"'[1]Перечень продуктов'!$B$66","v":35.63},{"$f":"ROUND(F135/1000*E135,2)","v":3.68}]
[null,null,"Масло растительное  ","г",{"v":4.8,"d":"4.800"},{"$f":"'[1]Перечень продуктов'!$B$47","v":80.56},0.39]
[null,"Мясо по-милански 180 г ",{"$nulls":4},{"$f":"ROUND(SUM(G138:G149),2)","v":37.03}]
[null,null,"Мясо говядина лопаточный отруб","г",{"v":63,"d":"63.000"},{"$f":"'[1]Перечень продуктов'!$B$8","v":378.3},{"$f":"ROUND(F138/1000*E138,2)","v":23.83}]
[null,null,"Картофель свежий ","г",{"v":84.78,"d":"84.780"},{"$f":"'[1]Перечень продуктов'!$B$22","v":28.73},2.44]
[null,null,"Яйцо 1 кат.","шт ",{"v":0.82,"d":"0.820"},{"$f":"'[1]Перечень продуктов'!$B$89","v":5.55},{"$f":"ROUND(F140/1000*E140,20)","v":0.004551}]
[null,null,"Лук репчатый","г",{"v":19.48,"d":"19.480"},{"$f":"'[1]Перечень продуктов'!$B$45","v":36.23},0.71]
[null,null,"Сметана  ","г",{"v":13.91,"d":"13.910"},{"$f":"'[1]Перечень продуктов'!$B$72","v":164.84},2.29]
[null,null,"Молоко","г",{"v":13.1,"d":"13.100"},{"$f":"'[1]Перечень продуктов'!$B$51","v":51.71},0.68]
[null,null,"Морковь свежая","г",{"v":16.33,"d":"16.330"},{"$f":"'[1]Перечень продуктов'!$B$52","v":33.97},0.55]
[null,null,"Соус переменка","г",{"v":8.18,"d":"8.180"},{"$f":"'[1]Перечень продуктов'!$B$109","v":129.70000000000002},1.06]
[null,null,"Сыр","г",{"v":8.18,"d":"8.180"},{"$f":"'[1]Перечень продуктов'!$B$74","v":497.88},4.07]
[null,null,"Масло растительное  ","г",{"v":2.46,"d":"2.460"},{"$f":"'[1]Перечень продуктов'!$B$47","v":80.56},0.2]
[null,null,"Масло сливочное","г",{"v":2.46,"d":"2.460"},{"$f":"'[1]Перечень продуктов'!$B$48","v":485.14},1.19]
[null,null,"Соль","г",{"v":0.81,"d":"0.810"},{"$f":"'[1]Перечень продуктов'!$B$70","v":11.1},{"$f":"ROUND(F149/1000*E149,20)","v":0.008991}]
[null,"Хлеб белый 1 сорт 30 г",{"$nulls":4},{"$f":"SUM(G151)","v":1.64}]
[null,null,"Хлеб белый 1 сорт","г",{"v":30,"d":"30.000"},{"$f":"'[1]Перечень продуктов'!$B$81","v":54.8},{"$f":"ROUND(F151/1000*E151,2)","v":1.64}]
[null,"Хлеб сельский  20 г",{"$nulls":4},{"$f":"SUM(G153)","v":1.08}]
[null,null,"Хлеб сельский","г",{"v":20,"d":"20.000"},{"$f":"'[1]Перечень продуктов'!$B$83","v":54.16},{"$f":"ROUND(F153/1000*E153,2)","v":1.08}]
["Суббота 2 неделя"]
[null,"Хлеб сельский  20 г",{"$nulls":4},{"$f":"SUM(G156)","v":1.08}]
[null,null,"Хлеб сельский","г",{"v":20,"d":"20.000"},{"$f":"'[1]Перечень продуктов'!$B$83","v":54.16},{"$f":"ROUND(F156/1000*E156,2)","v":1.08}]
[null,"Хлеб белый 1 сорт 30 г",{"$nulls":4},{"$f":"SUM(G158)","v":1.64}]
[null,null,"Хлеб белый 1 сорт","г",{"v":30,"d":"30.000"},{"$f":"'[1]Перечень продуктов'!$B$81","v":54.8},{"$f":"ROUND(F158/1000*E158,2)","v":1.64}]
[null,"Овощи натуральные свежие (помидоры) 80 г",{"$nulls":4},{"$f":"SUM(G160)","v":10.89}]
[null,null,"Помидоры свежие","г",{"v":81.6,"d":"81.600"},{"$f":"'[1]Перечень продуктов'!$B$62","v":133.4},{"$f":"ROUND(F160/1000*E160,2)","v":10.89}]
[null,"Сосиски отварные  100 г",{"$nulls":4},{"$f":"SUM(G162)","v":26}]
[null,null,"Сосиски говяжьи ","г",{"v":102,"d":"102.000"},{"$f":"'[1]Перечень продуктов'!$B$71","v":254.9},{"$f":"ROUND(F162/1000*E162,2)","v":26},"нет в Эл.магазине (цена за обычные сосиски)"]
[null,"Макароны  твердых сортов отварные с маслом 150/5 г ",{"$nulls":4},{"$f":"ROUND(SUM(G164:G167),2)","v":7.07}]
[null,null,"Макаронные изделия твердых сортов","г",{"v":50.93,"d":"50.930"},{"$f":"'[1]Перечень продуктов'!$B$46","v":40.73},{"$f":"ROUND(F164/1000*E164,2)","v":2.07}]
[null,null,"Соль","г",{"v":1.5,"d":"1.500"},{"$f":"'[1]Перечень продуктов'!$B$70","v":11.1},{"$f":"ROUND(F165/1000*E165,20)","v":0.01665}]
[null,null,"Масло сливочное","г",{"v":5.25,"d":"5.250"},{"$f":"'[1]Перечень продуктов'!$B$48","v":485.14},2.55]
[null,null,"Масло сливочное","г",{"v":5,"d":"5.000"},{"$f":"'[1]Перечень продуктов'!$B$48","v":485.14},2.43]
[null,"Кофейный напиток с молоком 200 г",{"$nulls":4},{"$f":"SUM(G169:G171)","v":7.6899999999999995}]
[null,null,"Кофейный напиток  ","г",{"v":5,"d":"5.000"},{"$f":"'[1]Перечень продуктов'!$B$27","v":375.42},{"$f":"ROUND(F169/1000*E169,2)","v":1.88}]
[null,null,"Сахарный песок","г",{"v":20,"d":"20.000"},{"$f":"'[1]Перечень продуктов'!$B$65","v":32.01},0.64]
[null,null,"Молоко","г",{"v":100,"d":"100.000"},{"$f":"'[1]Перечень продуктов'!$B$51","v":51.71},5.17]